BEGIN:VCALENDAR
VERSION:2.0
BEGIN:VEVENT
DTSTART:20260421T150833
DURATION:PT00H00M00S
SUMMARY:[DEADLINE] περιγράφω τον άθλο του Ηρακλή με το λιοντάρι της Νεμέας με δικά μου λόγια
DESCRIPTION:
BEGIN:VALARM
TRIGGER:-PT24H
DURATION:PT10H
ACTION:DISPLAY
DESCRIPTION:DEADLINE REMINDER for περιγράφω τον άθλο του Ηρακλή με το λιοντάρι της Νεμέας με δικά μου λόγια
END:VALARM
END:VEVENT
BEGIN:VEVENT
DTSTART:20260421T150833
DURATION:PT00H00M00S
SUMMARY:[DEADLINE] Γράψε τους θεούς του Ολύμπου
DESCRIPTION:
BEGIN:VALARM
TRIGGER:-PT24H
DURATION:PT10H
ACTION:DISPLAY
DESCRIPTION:DEADLINE REMINDER for Γράψε τους θεούς του Ολύμπου
END:VALARM
END:VEVENT
BEGIN:VEVENT
DTSTART:20260421T150833
DURATION:PT00H00M00S
SUMMARY:[DEADLINE] Άσκηση 1
DESCRIPTION:
BEGIN:VALARM
TRIGGER:-PT24H
DURATION:PT10H
ACTION:DISPLAY
DESCRIPTION:DEADLINE REMINDER for Άσκηση 1
END:VALARM
END:VEVENT
BEGIN:VEVENT
DTSTART:20260421T150833
DURATION:PT00H00M00S
SUMMARY:[DEADLINE] Άσκηση 2
DESCRIPTION:
BEGIN:VALARM
TRIGGER:-PT24H
DURATION:PT10H
ACTION:DISPLAY
DESCRIPTION:DEADLINE REMINDER for Άσκηση 2
END:VALARM
END:VEVENT
END:VCALENDAR
