BEGIN:VCALENDAR
VERSION:2.0
BEGIN:VEVENT
DTSTART:20260422T100911
DURATION:PT00H00M00S
SUMMARY:[DEADLINE]  Σχήματα- Αφόρμηση (Υποχρεωτική) Για να ανεβάσετε την φωτογραφία πάτήστε εδώ  
DESCRIPTION:
BEGIN:VALARM
TRIGGER:-PT24H
DURATION:PT10H
ACTION:DISPLAY
DESCRIPTION:DEADLINE REMINDER for Σχήματα- Αφόρμηση (Υποχρεωτική) Για να ανεβάσετε την φωτογραφία πάτήστε εδώ
END:VALARM
END:VEVENT
BEGIN:VEVENT
DTSTART:20260422T100911
DURATION:PT00H00M00S
SUMMARY:[DEADLINE] Σχήματα - Διδασκαλία (Υποχρεωτική) Για να ανεβάσετε τη φωτογραφία πατήστε εδώ.
DESCRIPTION:
BEGIN:VALARM
TRIGGER:-PT24H
DURATION:PT10H
ACTION:DISPLAY
DESCRIPTION:DEADLINE REMINDER for Σχήματα - Διδασκαλία (Υποχρεωτική) Για να ανεβάσετε τη φωτογραφία πατήστε εδώ.
END:VALARM
END:VEVENT
BEGIN:VEVENT
DTSTART:20260422T100911
DURATION:PT00H00M00S
SUMMARY:[DEADLINE] Σχήματα- Διερεύνηση προϋπάρχουσας γνώσης (Υποχρεωτική) Για να ανεβάσετε τη φωτογραφία πατήστε εδώ.
DESCRIPTION:
BEGIN:VALARM
TRIGGER:-PT24H
DURATION:PT10H
ACTION:DISPLAY
DESCRIPTION:DEADLINE REMINDER for Σχήματα- Διερεύνηση προϋπάρχουσας γνώσης (Υποχρεωτική) Για να ανεβάσετε τη φωτογραφία πατήστε εδώ.
END:VALARM
END:VEVENT
END:VCALENDAR
