BEGIN:VCALENDAR
VERSION:2.0
BEGIN:VEVENT
DTSTART:20260422T083615
DURATION:PT00H00M00S
SUMMARY:[DEADLINE] Υποβολή φωτογραφίας
DESCRIPTION:
BEGIN:VALARM
TRIGGER:-PT24H
DURATION:PT10H
ACTION:DISPLAY
DESCRIPTION:DEADLINE REMINDER for Υποβολή φωτογραφίας
END:VALARM
END:VEVENT
BEGIN:VEVENT
DTSTART:20260422T083615
DURATION:PT00H00M00S
SUMMARY:[DEADLINE] 9.Πατήστε εδώ για να υποβάλετε την φωτογραφία /τις φωτογραφίες
DESCRIPTION:
BEGIN:VALARM
TRIGGER:-PT24H
DURATION:PT10H
ACTION:DISPLAY
DESCRIPTION:DEADLINE REMINDER for 9.Πατήστε εδώ για να υποβάλετε την φωτογραφία /τις φωτογραφίες
END:VALARM
END:VEVENT
BEGIN:VEVENT
DTSTART:20260422T083615
DURATION:PT00H00M00S
SUMMARY:[DEADLINE] Απαντήστε εδώ στην παραπάνω ερώτηση
DESCRIPTION:
BEGIN:VALARM
TRIGGER:-PT24H
DURATION:PT10H
ACTION:DISPLAY
DESCRIPTION:DEADLINE REMINDER for Απαντήστε εδώ στην παραπάνω ερώτηση
END:VALARM
END:VEVENT
BEGIN:VEVENT
DTSTART:20260422T083615
DURATION:PT00H00M00S
SUMMARY:[DEADLINE] Επεξεργάζομαι-Παρατηρώ, πατήστε εδώ
DESCRIPTION:
BEGIN:VALARM
TRIGGER:-PT24H
DURATION:PT10H
ACTION:DISPLAY
DESCRIPTION:DEADLINE REMINDER for Επεξεργάζομαι-Παρατηρώ, πατήστε εδώ
END:VALARM
END:VEVENT
BEGIN:VEVENT
DTSTART:20260422T083615
DURATION:PT00H00M00S
SUMMARY:[DEADLINE] 9. Ανεβάστε την φωτογραφία
DESCRIPTION:
BEGIN:VALARM
TRIGGER:-PT24H
DURATION:PT10H
ACTION:DISPLAY
DESCRIPTION:DEADLINE REMINDER for 9. Ανεβάστε την φωτογραφία
END:VALARM
END:VEVENT
END:VCALENDAR
