BEGIN:VCALENDAR
VERSION:2.0
BEGIN:VEVENT
DTSTART:20260422T093040
DURATION:PT00H00M00S
SUMMARY:[DEADLINE] Ανάρτηση εργασίας
DESCRIPTION:
BEGIN:VALARM
TRIGGER:-PT24H
DURATION:PT10H
ACTION:DISPLAY
DESCRIPTION:DEADLINE REMINDER for Ανάρτηση εργασίας
END:VALARM
END:VEVENT
BEGIN:VEVENT
DTSTART:20260422T093040
DURATION:PT00H00M00S
SUMMARY:[DEADLINE] Άσκηση 1 (Σωστό-Λάθος)
DESCRIPTION:
BEGIN:VALARM
TRIGGER:-PT24H
DURATION:PT10H
ACTION:DISPLAY
DESCRIPTION:DEADLINE REMINDER for Άσκηση 1 (Σωστό-Λάθος)
END:VALARM
END:VEVENT
END:VCALENDAR
