BEGIN:VCALENDAR
VERSION:2.0
BEGIN:VEVENT
DTSTART:20260421T225428
DURATION:PT00H00M00S
SUMMARY:[DEADLINE] ΕΡΓΑΣΙΑ 1
DESCRIPTION:
BEGIN:VALARM
TRIGGER:-PT24H
DURATION:PT10H
ACTION:DISPLAY
DESCRIPTION:DEADLINE REMINDER for ΕΡΓΑΣΙΑ 1
END:VALARM
END:VEVENT
BEGIN:VEVENT
DTSTART:20260421T225428
DURATION:PT00H00M00S
SUMMARY:[DEADLINE] Άσκηση 1η
DESCRIPTION:
BEGIN:VALARM
TRIGGER:-PT24H
DURATION:PT10H
ACTION:DISPLAY
DESCRIPTION:DEADLINE REMINDER for Άσκηση 1η
END:VALARM
END:VEVENT
BEGIN:VEVENT
DTSTART:20260421T225428
DURATION:PT00H00M00S
SUMMARY:[DEADLINE] Άσκηση 2η
DESCRIPTION:
BEGIN:VALARM
TRIGGER:-PT24H
DURATION:PT10H
ACTION:DISPLAY
DESCRIPTION:DEADLINE REMINDER for Άσκηση 2η
END:VALARM
END:VEVENT
BEGIN:VEVENT
DTSTART:20260421T225428
DURATION:PT00H00M00S
SUMMARY:[DEADLINE] ΑΣΚΗΣΗ 3
DESCRIPTION:
BEGIN:VALARM
TRIGGER:-PT24H
DURATION:PT10H
ACTION:DISPLAY
DESCRIPTION:DEADLINE REMINDER for ΑΣΚΗΣΗ 3
END:VALARM
END:VEVENT
END:VCALENDAR
