BEGIN:VCALENDAR
VERSION:2.0
BEGIN:VEVENT
DTSTART:20260421T083901
DURATION:PT00H00M00S
SUMMARY:[DEADLINE] Βρίσκω αντικείμενα στο σχήμα του κύκλου.
DESCRIPTION:
BEGIN:VALARM
TRIGGER:-PT24H
DURATION:PT10H
ACTION:DISPLAY
DESCRIPTION:DEADLINE REMINDER for Βρίσκω αντικείμενα στο σχήμα του κύκλου.
END:VALARM
END:VEVENT
BEGIN:VEVENT
DTSTART:20260421T083901
DURATION:PT00H00M00S
SUMMARY:[DEADLINE] Τι ονειρεύτηκε άραγε ο κύκλος;
DESCRIPTION:
BEGIN:VALARM
TRIGGER:-PT24H
DURATION:PT10H
ACTION:DISPLAY
DESCRIPTION:DEADLINE REMINDER for Τι ονειρεύτηκε άραγε ο κύκλος;
END:VALARM
END:VEVENT
BEGIN:VEVENT
DTSTART:20260421T083901
DURATION:PT00H00M00S
SUMMARY:[DEADLINE] σωστό-λάθος
DESCRIPTION:
BEGIN:VALARM
TRIGGER:-PT24H
DURATION:PT10H
ACTION:DISPLAY
DESCRIPTION:DEADLINE REMINDER for σωστό-λάθος
END:VALARM
END:VEVENT
BEGIN:VEVENT
DTSTART:20211001T141000
DURATION:PT01H00M00S
SUMMARY:[COURSE] Τηλεδιάσκεψη
DESCRIPTION:Στο ηλεκτρονικό ταχυδρομείο, σας έχει σταλεί ο σύνδεσμος για την τηλεδιάσκεψή μας μέσω της πλατφόρμας Webex. Πατήστε πάνω σε αυτόν και θα συνδεθείται στην τάξη μας. Η τηλεδιάσκεψη θα πραγματοποιηθεί την Παρασκευή 1-10-2021 και ώρα 14:10.
Είμαστε έτοιμοι να μας παρουσιάσετε τις ζωγραφιές σας και να συζητήσουμε! 
END:VEVENT
END:VCALENDAR
