BEGIN:VCALENDAR
VERSION:2.0
BEGIN:VEVENT
DTSTART:20260421T200326
DURATION:PT00H00M00S
SUMMARY:[DEADLINE] Άσκηση Παραγράφου
DESCRIPTION:
BEGIN:VALARM
TRIGGER:-PT24H
DURATION:PT10H
ACTION:DISPLAY
DESCRIPTION:DEADLINE REMINDER for Άσκηση Παραγράφου
END:VALARM
END:VEVENT
BEGIN:VEVENT
DTSTART:20260421T200326
DURATION:PT00H00M00S
SUMMARY:[DEADLINE] Άσκηση Παραγράφου
DESCRIPTION:
BEGIN:VALARM
TRIGGER:-PT24H
DURATION:PT10H
ACTION:DISPLAY
DESCRIPTION:DEADLINE REMINDER for Άσκηση Παραγράφου
END:VALARM
END:VEVENT
BEGIN:VEVENT
DTSTART:20260421T200326
DURATION:PT00H00M00S
SUMMARY:[DEADLINE] Άσκηση συμπλήρωσης κενών 1
DESCRIPTION:
BEGIN:VALARM
TRIGGER:-PT24H
DURATION:PT10H
ACTION:DISPLAY
DESCRIPTION:DEADLINE REMINDER for Άσκηση συμπλήρωσης κενών 1
END:VALARM
END:VEVENT
BEGIN:VEVENT
DTSTART:20260421T200326
DURATION:PT00H00M00S
SUMMARY:[DEADLINE] πολλαπλών επιλογών
DESCRIPTION:
BEGIN:VALARM
TRIGGER:-PT24H
DURATION:PT10H
ACTION:DISPLAY
DESCRIPTION:DEADLINE REMINDER for πολλαπλών επιλογών
END:VALARM
END:VEVENT
BEGIN:VEVENT
DTSTART:20260421T200326
DURATION:PT00H00M00S
SUMMARY:[DEADLINE] Η Αξία του Διαλόγου. Σωστό Λάθος
DESCRIPTION:
BEGIN:VALARM
TRIGGER:-PT24H
DURATION:PT10H
ACTION:DISPLAY
DESCRIPTION:DEADLINE REMINDER for Η Αξία του Διαλόγου. Σωστό Λάθος
END:VALARM
END:VEVENT
END:VCALENDAR
