BEGIN:VCALENDAR
VERSION:2.0
BEGIN:VEVENT
DTSTART:20210917T103000
DURATION:PT00H00M00S
SUMMARY:[DEADLINE] 1η Ενδιάμεση εργασία -Πρώτες Βοήθειες- Πνιγμονή
DESCRIPTION:06/09/2020: Να διερευνήσετε σε συνεργασία με το πλησιέστερο οικογενειακό σας περιβάλλον αν βρέθηκαν σε ανάλογο περιστατικό και πως το αντιμετώπισαν. Να καταγράψετε το αποτέλεσμα απο αυτή την μικρή έρευνα ώστε να ανακαλύψετε αν τα άτομα του πλησιέστερου οικογενειακού περιβάλλοντος σας έχουν γνώσεις πρώτων βοηθειών έως την Παρασκευή 17/9.
(deadline: 2021-09-17 10:30:00)
BEGIN:VALARM
TRIGGER:-PT24H
DURATION:PT10H
ACTION:DISPLAY
DESCRIPTION:DEADLINE REMINDER for 1η Ενδιάμεση εργασία -Πρώτες Βοήθειες- Πνιγμονή
END:VALARM
END:VEVENT
BEGIN:VEVENT
DTSTART:20210918T220000
DURATION:PT00H00M00S
SUMMARY:[DEADLINE] Τεστ Ενότητας Πρώτες βοήθειες -Πνιγμονή 3
DESCRIPTION:Ερωτήσεις Σωστό -Λάθος
(deadline: 2021-09-18 22:00:00)
BEGIN:VALARM
TRIGGER:-PT24H
DURATION:PT10H
ACTION:DISPLAY
DESCRIPTION:DEADLINE REMINDER for Τεστ Ενότητας Πρώτες βοήθειες -Πνιγμονή 3
END:VALARM
END:VEVENT
BEGIN:VEVENT
DTSTART:20210918T220000
DURATION:PT00H00M00S
SUMMARY:[DEADLINE] Τεστ Ενότητας Πρώτες βοήθειες -Πνιγμονή 2
DESCRIPTION:Ερωτήσεις Σωστό -Λάθος
(deadline: 2021-09-18 22:00:00)
BEGIN:VALARM
TRIGGER:-PT24H
DURATION:PT10H
ACTION:DISPLAY
DESCRIPTION:DEADLINE REMINDER for Τεστ Ενότητας Πρώτες βοήθειες -Πνιγμονή 2
END:VALARM
END:VEVENT
BEGIN:VEVENT
DTSTART:20210918T220000
DURATION:PT00H00M00S
SUMMARY:[DEADLINE] Τεστ Ενότητας Πρώτες βοήθειες -Πνιγμονή 1
DESCRIPTION:Ερωτήσεις Σωστό -Λάθος
(deadline: 2021-09-18 22:00:00)
BEGIN:VALARM
TRIGGER:-PT24H
DURATION:PT10H
ACTION:DISPLAY
DESCRIPTION:DEADLINE REMINDER for Τεστ Ενότητας Πρώτες βοήθειες -Πνιγμονή 1
END:VALARM
END:VEVENT
END:VCALENDAR
