BEGIN:VCALENDAR
VERSION:2.0
BEGIN:VEVENT
DTSTART:20201225T155000
DURATION:PT00H00M00S
SUMMARY:[DEADLINE] Ευρωπαϊκή Ένωση (οι χώρες και οι πρωτεύουσές τους)
DESCRIPTION:Παρακαλώ γράψτε όλες τις χώρες και τις αντίστοιχες πρωτεύουσές τους!
(deadline: 2020-12-25 15:50:00)
BEGIN:VALARM
TRIGGER:-PT24H
DURATION:PT10H
ACTION:DISPLAY
DESCRIPTION:DEADLINE REMINDER for Ευρωπαϊκή Ένωση (οι χώρες και οι πρωτεύουσές τους)
END:VALARM
END:VEVENT
BEGIN:VEVENT
DTSTART:20210129T224500
DURATION:PT00H00M00S
SUMMARY:[DEADLINE] Η Ευρωπαϊκή Ένωση
DESCRIPTION:Σε αυτήν την άσκηση καλείστε να απαντήσετε στις ερωτήσεις που σας δίνονται 
(deadline: 2021-01-29 22:45:00)
BEGIN:VALARM
TRIGGER:-PT24H
DURATION:PT10H
ACTION:DISPLAY
DESCRIPTION:DEADLINE REMINDER for Η Ευρωπαϊκή Ένωση
END:VALARM
END:VEVENT
END:VCALENDAR
