BEGIN:VCALENDAR
VERSION:2.0
BEGIN:VEVENT
DTSTART:20260423T002356
DURATION:PT00H00M00S
SUMMARY:[DEADLINE] Γράφω τις μονάδες εισόδου και τις μονάδες εξόδου
DESCRIPTION:
BEGIN:VALARM
TRIGGER:-PT24H
DURATION:PT10H
ACTION:DISPLAY
DESCRIPTION:DEADLINE REMINDER for Γράφω τις μονάδες εισόδου και τις μονάδες εξόδου
END:VALARM
END:VEVENT
BEGIN:VEVENT
DTSTART:20260423T002356
DURATION:PT00H00M00S
SUMMARY:[DEADLINE] Μονάδες εισόδου
DESCRIPTION:
BEGIN:VALARM
TRIGGER:-PT24H
DURATION:PT10H
ACTION:DISPLAY
DESCRIPTION:DEADLINE REMINDER for Μονάδες εισόδου
END:VALARM
END:VEVENT
BEGIN:VEVENT
DTSTART:20260423T002356
DURATION:PT00H00M00S
SUMMARY:[DEADLINE] Μονάδες εισόδου
DESCRIPTION:
BEGIN:VALARM
TRIGGER:-PT24H
DURATION:PT10H
ACTION:DISPLAY
DESCRIPTION:DEADLINE REMINDER for Μονάδες εισόδου
END:VALARM
END:VEVENT
END:VCALENDAR
