BEGIN:VCALENDAR
VERSION:2.0
BEGIN:VEVENT
DTSTART:20260422T130315
DURATION:PT00H00M00S
SUMMARY:[DEADLINE] Περιγράφω με λίγα λόγια την βασική αποστολή της Φιλικής εταιρίας 
DESCRIPTION:
BEGIN:VALARM
TRIGGER:-PT24H
DURATION:PT10H
ACTION:DISPLAY
DESCRIPTION:DEADLINE REMINDER for Περιγράφω με λίγα λόγια την βασική αποστολή της Φιλικής εταιρίας
END:VALARM
END:VEVENT
BEGIN:VEVENT
DTSTART:20260422T130315
DURATION:PT00H00M00S
SUMMARY:[DEADLINE] ΑΣΚΗΣΗ 1.
DESCRIPTION:
BEGIN:VALARM
TRIGGER:-PT24H
DURATION:PT10H
ACTION:DISPLAY
DESCRIPTION:DEADLINE REMINDER for ΑΣΚΗΣΗ 1.
END:VALARM
END:VEVENT
BEGIN:VEVENT
DTSTART:20260422T130315
DURATION:PT00H00M00S
SUMMARY:[DEADLINE] ΑΣΚΗΣΗ 2.
DESCRIPTION:
BEGIN:VALARM
TRIGGER:-PT24H
DURATION:PT10H
ACTION:DISPLAY
DESCRIPTION:DEADLINE REMINDER for ΑΣΚΗΣΗ 2.
END:VALARM
END:VEVENT
END:VCALENDAR
