BEGIN:VCALENDAR
VERSION:2.0
BEGIN:VEVENT
DTSTART:20260421T184035
DURATION:PT00H00M00S
SUMMARY:[DEADLINE] ΣΩΣΤΟ - ΛΑΘΟΣ
DESCRIPTION:
BEGIN:VALARM
TRIGGER:-PT24H
DURATION:PT10H
ACTION:DISPLAY
DESCRIPTION:DEADLINE REMINDER for ΣΩΣΤΟ - ΛΑΘΟΣ
END:VALARM
END:VEVENT
BEGIN:VEVENT
DTSTART:20260421T184035
DURATION:PT00H00M00S
SUMMARY:[DEADLINE] ΤΑΙΡΙΑΣΜΑ
DESCRIPTION:
BEGIN:VALARM
TRIGGER:-PT24H
DURATION:PT10H
ACTION:DISPLAY
DESCRIPTION:DEADLINE REMINDER for ΤΑΙΡΙΑΣΜΑ
END:VALARM
END:VEVENT
BEGIN:VEVENT
DTSTART:20260421T184035
DURATION:PT00H00M00S
SUMMARY:[DEADLINE] ΠΟΛΛΑΠΛΗΣ ΕΠΙΛΟΓΗΣ ( ΜΟΝΑΔΙΚΗ ΑΠΑΝΤΗΣΗ )
DESCRIPTION:
BEGIN:VALARM
TRIGGER:-PT24H
DURATION:PT10H
ACTION:DISPLAY
DESCRIPTION:DEADLINE REMINDER for ΠΟΛΛΑΠΛΗΣ ΕΠΙΛΟΓΗΣ ( ΜΟΝΑΔΙΚΗ ΑΠΑΝΤΗΣΗ )
END:VALARM
END:VEVENT
BEGIN:VEVENT
DTSTART:20260421T184035
DURATION:PT00H00M00S
SUMMARY:[DEADLINE] ΣΥΜΠΛΗΡΩΣΗ ΚΕΝΩΝ
DESCRIPTION:
BEGIN:VALARM
TRIGGER:-PT24H
DURATION:PT10H
ACTION:DISPLAY
DESCRIPTION:DEADLINE REMINDER for ΣΥΜΠΛΗΡΩΣΗ ΚΕΝΩΝ
END:VALARM
END:VEVENT
END:VCALENDAR
