BEGIN:VCALENDAR
VERSION:2.0
BEGIN:VEVENT
DTSTART:20260423T062924
DURATION:PT00H00M00S
SUMMARY:[DEADLINE] Εργασία σχετικά με την ΙΘΑΚΗ του Καβάφη 
DESCRIPTION:
BEGIN:VALARM
TRIGGER:-PT24H
DURATION:PT10H
ACTION:DISPLAY
DESCRIPTION:DEADLINE REMINDER for Εργασία σχετικά με την ΙΘΑΚΗ του Καβάφη
END:VALARM
END:VEVENT
BEGIN:VEVENT
DTSTART:20260423T062924
DURATION:PT00H00M00S
SUMMARY:[DEADLINE] Ερωτήσεις  τη "Δέησις"
DESCRIPTION:
BEGIN:VALARM
TRIGGER:-PT24H
DURATION:PT10H
ACTION:DISPLAY
DESCRIPTION:DEADLINE REMINDER for Ερωτήσεις τη "Δέησις"
END:VALARM
END:VEVENT
BEGIN:VEVENT
DTSTART:20260423T062924
DURATION:PT00H00M00S
SUMMARY:[DEADLINE] Άσκηση 2-Συμπλήρωση κενών
DESCRIPTION:
BEGIN:VALARM
TRIGGER:-PT24H
DURATION:PT10H
ACTION:DISPLAY
DESCRIPTION:DEADLINE REMINDER for Άσκηση 2-Συμπλήρωση κενών
END:VALARM
END:VEVENT
BEGIN:VEVENT
DTSTART:20260423T062924
DURATION:PT00H00M00S
SUMMARY:[DEADLINE] Άσκηση 3-Πολλαπλών Επιλογών
DESCRIPTION:
BEGIN:VALARM
TRIGGER:-PT24H
DURATION:PT10H
ACTION:DISPLAY
DESCRIPTION:DEADLINE REMINDER for Άσκηση 3-Πολλαπλών Επιλογών
END:VALARM
END:VEVENT
BEGIN:VEVENT
DTSTART:20260423T062924
DURATION:PT00H00M00S
SUMMARY:[DEADLINE] Ερωτήσεις Για το ποίημα "Δέησις"
DESCRIPTION:
BEGIN:VALARM
TRIGGER:-PT24H
DURATION:PT10H
ACTION:DISPLAY
DESCRIPTION:DEADLINE REMINDER for Ερωτήσεις Για το ποίημα "Δέησις"
END:VALARM
END:VEVENT
END:VCALENDAR
