BEGIN:VCALENDAR
VERSION:2.0
BEGIN:VEVENT
DTSTART:20260422T065204
DURATION:PT00H00M00S
SUMMARY:[DEADLINE] Yes, I Can!
DESCRIPTION:
BEGIN:VALARM
TRIGGER:-PT24H
DURATION:PT10H
ACTION:DISPLAY
DESCRIPTION:DEADLINE REMINDER for Yes, I Can!
END:VALARM
END:VEVENT
BEGIN:VEVENT
DTSTART:20260422T065204
DURATION:PT00H00M00S
SUMMARY:[DEADLINE] Can it? True - False
DESCRIPTION:
BEGIN:VALARM
TRIGGER:-PT24H
DURATION:PT10H
ACTION:DISPLAY
DESCRIPTION:DEADLINE REMINDER for Can it? True - False
END:VALARM
END:VEVENT
BEGIN:VEVENT
DTSTART:20260422T065204
DURATION:PT00H00M00S
SUMMARY:[DEADLINE] Yes, I Can! - Find the Match
DESCRIPTION:
BEGIN:VALARM
TRIGGER:-PT24H
DURATION:PT10H
ACTION:DISPLAY
DESCRIPTION:DEADLINE REMINDER for Yes, I Can! - Find the Match
END:VALARM
END:VEVENT
END:VCALENDAR
