BEGIN:VCALENDAR
VERSION:2.0
BEGIN:VEVENT
DTSTART:20260422T115922
DURATION:PT00H00M00S
SUMMARY:[DEADLINE] ΕΡΓΑΣΙΑ - WARM UP
DESCRIPTION:
BEGIN:VALARM
TRIGGER:-PT24H
DURATION:PT10H
ACTION:DISPLAY
DESCRIPTION:DEADLINE REMINDER for ΕΡΓΑΣΙΑ - WARM UP
END:VALARM
END:VEVENT
BEGIN:VEVENT
DTSTART:20260422T115922
DURATION:PT00H00M00S
SUMMARY:[DEADLINE] ΑΣΚΗΣΗ 1ης ΕΝΟΤΗΤΑΣ
DESCRIPTION:
BEGIN:VALARM
TRIGGER:-PT24H
DURATION:PT10H
ACTION:DISPLAY
DESCRIPTION:DEADLINE REMINDER for ΑΣΚΗΣΗ 1ης ΕΝΟΤΗΤΑΣ
END:VALARM
END:VEVENT
END:VCALENDAR
