BEGIN:VCALENDAR
VERSION:2.0
BEGIN:VEVENT
DTSTART:20260421T134355
DURATION:PT00H00M00S
SUMMARY:[DEADLINE] Υγιεινές - Ανθυγιεινές τροφές
DESCRIPTION:
BEGIN:VALARM
TRIGGER:-PT24H
DURATION:PT10H
ACTION:DISPLAY
DESCRIPTION:DEADLINE REMINDER for Υγιεινές - Ανθυγιεινές τροφές
END:VALARM
END:VEVENT
END:VCALENDAR
