BEGIN:VCALENDAR
VERSION:2.0
BEGIN:VEVENT
DTSTART:20260423T041319
DURATION:PT00H00M00S
SUMMARY:[DEADLINE] ΦΥΛΛΟ ΕΡΓΑΣΙΑΣ "ΟΙ ΛΑΟΙ ΤΗΣ ΜΕΣΟΠΟΤΑΜΙΑΣ ΚΑΙ Η ΑΙΓΥΠΤΟΣ
DESCRIPTION:
BEGIN:VALARM
TRIGGER:-PT24H
DURATION:PT10H
ACTION:DISPLAY
DESCRIPTION:DEADLINE REMINDER for ΦΥΛΛΟ ΕΡΓΑΣΙΑΣ "ΟΙ ΛΑΟΙ ΤΗΣ ΜΕΣΟΠΟΤΑΜΙΑΣ ΚΑΙ Η ΑΙΓΥΠΤΟΣ
END:VALARM
END:VEVENT
BEGIN:VEVENT
DTSTART:20260423T041319
DURATION:PT00H00M00S
SUMMARY:[DEADLINE] Ερώτηση συνδυαστική γνώσεων και ιστορικής κρίσεως (ενότητα 2.1)
DESCRIPTION:
BEGIN:VALARM
TRIGGER:-PT24H
DURATION:PT10H
ACTION:DISPLAY
DESCRIPTION:DEADLINE REMINDER for Ερώτηση συνδυαστική γνώσεων και ιστορικής κρίσεως (ενότητα 2.1)
END:VALARM
END:VEVENT
BEGIN:VEVENT
DTSTART:20260423T041319
DURATION:PT00H00M00S
SUMMARY:[DEADLINE] Συμπλήρωση κενών (ενότητα 2.1)
DESCRIPTION:
BEGIN:VALARM
TRIGGER:-PT24H
DURATION:PT10H
ACTION:DISPLAY
DESCRIPTION:DEADLINE REMINDER for Συμπλήρωση κενών (ενότητα 2.1)
END:VALARM
END:VEVENT
BEGIN:VEVENT
DTSTART:20260423T041319
DURATION:PT00H00M00S
SUMMARY:[DEADLINE] ΑΣΚΗΣΗ ΠΟΛΛΑΠΛΗΣ ΕΠΙΛΟΓΗΣ (ενότητα 2.1 & 2.2)
DESCRIPTION:
BEGIN:VALARM
TRIGGER:-PT24H
DURATION:PT10H
ACTION:DISPLAY
DESCRIPTION:DEADLINE REMINDER for ΑΣΚΗΣΗ ΠΟΛΛΑΠΛΗΣ ΕΠΙΛΟΓΗΣ (ενότητα 2.1 & 2.2)
END:VALARM
END:VEVENT
BEGIN:VEVENT
DTSTART:20260423T041319
DURATION:PT00H00M00S
SUMMARY:[DEADLINE] ΤΑ ΕΙΔΗ ΤΩΝ ΠΡΟΤΑΣΕΩΝ
DESCRIPTION:
BEGIN:VALARM
TRIGGER:-PT24H
DURATION:PT10H
ACTION:DISPLAY
DESCRIPTION:DEADLINE REMINDER for ΤΑ ΕΙΔΗ ΤΩΝ ΠΡΟΤΑΣΕΩΝ
END:VALARM
END:VEVENT
BEGIN:VEVENT
DTSTART:20201007T080000
DURATION:PT00H30M00S
SUMMARY:[COURSE] ΠΡΟΟΔΟΣ ΜΑΘΗΜΑΤΟΣ
DESCRIPTION:Έχοντας ολοκληρώσει το Ι. κεφάλαιο, ήρθε η ώρα να δοκιμάσουμε τις γνώσεις μας και όσα μάθαμε για τους λαούς της Ανατολικής Μεσογείου! Οπλιστείτε με δύναμη και απαντήστε τις ερωτήσεις.
END:VEVENT
END:VCALENDAR
