BEGIN:VCALENDAR
VERSION:2.0
BEGIN:VEVENT
DTSTART:20260423T062137
DURATION:PT00H00M00S
SUMMARY:[DEADLINE] Βάζω τις εικόνες στη σειρά για να δείξω πως μεγαλώνει ένα φυτό
DESCRIPTION:
BEGIN:VALARM
TRIGGER:-PT24H
DURATION:PT10H
ACTION:DISPLAY
DESCRIPTION:DEADLINE REMINDER for Βάζω τις εικόνες στη σειρά για να δείξω πως μεγαλώνει ένα φυτό
END:VALARM
END:VEVENT
END:VCALENDAR
