BEGIN:VCALENDAR
VERSION:2.0
BEGIN:VEVENT
DTSTART:20260422T133659
DURATION:PT00H00M00S
SUMMARY:[DEADLINE] Εργασία Α1.1
DESCRIPTION:
BEGIN:VALARM
TRIGGER:-PT24H
DURATION:PT10H
ACTION:DISPLAY
DESCRIPTION:DEADLINE REMINDER for Εργασία Α1.1
END:VALARM
END:VEVENT
BEGIN:VEVENT
DTSTART:20260422T133659
DURATION:PT00H00M00S
SUMMARY:[DEADLINE] Άσκηση Α1.1
DESCRIPTION:
BEGIN:VALARM
TRIGGER:-PT24H
DURATION:PT10H
ACTION:DISPLAY
DESCRIPTION:DEADLINE REMINDER for Άσκηση Α1.1
END:VALARM
END:VEVENT
BEGIN:VEVENT
DTSTART:20260422T133659
DURATION:PT00H00M00S
SUMMARY:[DEADLINE] Άσκηση Α1.2
DESCRIPTION:
BEGIN:VALARM
TRIGGER:-PT24H
DURATION:PT10H
ACTION:DISPLAY
DESCRIPTION:DEADLINE REMINDER for Άσκηση Α1.2
END:VALARM
END:VEVENT
BEGIN:VEVENT
DTSTART:20260422T133659
DURATION:PT00H00M00S
SUMMARY:[DEADLINE] Άσκηση Α1.3
DESCRIPTION:
BEGIN:VALARM
TRIGGER:-PT24H
DURATION:PT10H
ACTION:DISPLAY
DESCRIPTION:DEADLINE REMINDER for Άσκηση Α1.3
END:VALARM
END:VEVENT
BEGIN:VEVENT
DTSTART:20260422T133659
DURATION:PT00H00M00S
SUMMARY:[DEADLINE] Άσκηση Α1.4
DESCRIPTION:
BEGIN:VALARM
TRIGGER:-PT24H
DURATION:PT10H
ACTION:DISPLAY
DESCRIPTION:DEADLINE REMINDER for Άσκηση Α1.4
END:VALARM
END:VEVENT
BEGIN:VEVENT
DTSTART:20200916T100000
DURATION:PT01H00M00S
SUMMARY:[COURSE] Τηλεδιάσκεψη για τη χρήση του διαδραστικού βιβλίου, του eClass και του Zoom.
DESCRIPTION:Τηλεδιάσκεψη για τη χρήση του διαδραστικού βιβλίου, του eClass και του Zoom.
Μπες στην τάξη 5' λεπτά πριν τις 10:00!
Κωδικός πρόσβασης: 123
END:VEVENT
BEGIN:VEVENT
DTSTART:20200923T100000
DURATION:PT01H00M00S
SUMMARY:[COURSE] Τηλεδιάσκεψη για το Kεφάλαιο 1ο: Tο σχήμα και οι κινήσεις της Γης
DESCRIPTION:Τηλεδιάσκεψη για το Kεφάλαιο 1ο: Tο σχήμα και οι κινήσεις της Γης
Μπες στην τάξη 5' λεπτά πριν τις 10:00!
Κωδικός πρόσβασης: 123
 
Μην ξεχνάτε ότι (μέσα από το eClass) θα πρέπει να έχετε προετοιμαστεί στο κεφάλαιο αυτό και να έχετε κάνει τις ασκήσεις και εργασίες σας.
END:VEVENT
END:VCALENDAR
