BEGIN:VCALENDAR
VERSION:2.0
BEGIN:VEVENT
DTSTART:20260422T040235
DURATION:PT00H00M00S
SUMMARY:[DEADLINE] ΠΕΡΙΓΡΑΦΩ ΤΙΣ ΠΡΩΤΕΣ ΒΟΗΘΕΙΕΣ ΣΤΗΝ ΠΕΡΙΠΤΩΣΗ ΑΜΥΓΔΑΛΙΤΙΔΑΣ
DESCRIPTION:
BEGIN:VALARM
TRIGGER:-PT24H
DURATION:PT10H
ACTION:DISPLAY
DESCRIPTION:DEADLINE REMINDER for ΠΕΡΙΓΡΑΦΩ ΤΙΣ ΠΡΩΤΕΣ ΒΟΗΘΕΙΕΣ ΣΤΗΝ ΠΕΡΙΠΤΩΣΗ ΑΜΥΓΔΑΛΙΤΙΔΑΣ
END:VALARM
END:VEVENT
BEGIN:VEVENT
DTSTART:20260422T040235
DURATION:PT00H00M00S
SUMMARY:[DEADLINE] ΑΣΚΗΣΗ ΚΕΦ 2.1
DESCRIPTION:
BEGIN:VALARM
TRIGGER:-PT24H
DURATION:PT10H
ACTION:DISPLAY
DESCRIPTION:DEADLINE REMINDER for ΑΣΚΗΣΗ ΚΕΦ 2.1
END:VALARM
END:VEVENT
END:VCALENDAR
