BEGIN:VCALENDAR
VERSION:2.0
BEGIN:VEVENT
DTSTART:20260422T005956
DURATION:PT00H00M00S
SUMMARY:[DEADLINE] Προαιρετική εργασία: Εκπαιδευτική τηλεόραση!
DESCRIPTION:
BEGIN:VALARM
TRIGGER:-PT24H
DURATION:PT10H
ACTION:DISPLAY
DESCRIPTION:DEADLINE REMINDER for Προαιρετική εργασία: Εκπαιδευτική τηλεόραση!
END:VALARM
END:VEVENT
BEGIN:VEVENT
DTSTART:20260422T005956
DURATION:PT00H00M00S
SUMMARY:[DEADLINE] Άσκηση αντιστοίχισης
DESCRIPTION:
BEGIN:VALARM
TRIGGER:-PT24H
DURATION:PT10H
ACTION:DISPLAY
DESCRIPTION:DEADLINE REMINDER for Άσκηση αντιστοίχισης
END:VALARM
END:VEVENT
BEGIN:VEVENT
DTSTART:20260422T005956
DURATION:PT00H00M00S
SUMMARY:[DEADLINE] Άσκηση συμπλήρωσης κενών (2ο κεφάλαιο)
DESCRIPTION:
BEGIN:VALARM
TRIGGER:-PT24H
DURATION:PT10H
ACTION:DISPLAY
DESCRIPTION:DEADLINE REMINDER for Άσκηση συμπλήρωσης κενών (2ο κεφάλαιο)
END:VALARM
END:VEVENT
BEGIN:VEVENT
DTSTART:20260422T005956
DURATION:PT00H00M00S
SUMMARY:[DEADLINE] Άσκηση πολλαπλής επιλογής (κεφ. 2)
DESCRIPTION:
BEGIN:VALARM
TRIGGER:-PT24H
DURATION:PT10H
ACTION:DISPLAY
DESCRIPTION:DEADLINE REMINDER for Άσκηση πολλαπλής επιλογής (κεφ. 2)
END:VALARM
END:VEVENT
END:VCALENDAR
