BEGIN:VCALENDAR
VERSION:2.0
BEGIN:VEVENT
DTSTART:20260422T101137
DURATION:PT00H00M00S
SUMMARY:[DEADLINE] Παραγωγή γραπτού λόγου
DESCRIPTION:
BEGIN:VALARM
TRIGGER:-PT24H
DURATION:PT10H
ACTION:DISPLAY
DESCRIPTION:DEADLINE REMINDER for Παραγωγή γραπτού λόγου
END:VALARM
END:VEVENT
BEGIN:VEVENT
DTSTART:20260422T101137
DURATION:PT00H00M00S
SUMMARY:[DEADLINE] Αφίσα με το postermywall
DESCRIPTION:
BEGIN:VALARM
TRIGGER:-PT24H
DURATION:PT10H
ACTION:DISPLAY
DESCRIPTION:DEADLINE REMINDER for Αφίσα με το postermywall
END:VALARM
END:VEVENT
BEGIN:VEVENT
DTSTART:20260422T101137
DURATION:PT00H00M00S
SUMMARY:[DEADLINE] Φυλλάδιο εργασιών 4ης ενότητας
DESCRIPTION:
BEGIN:VALARM
TRIGGER:-PT24H
DURATION:PT10H
ACTION:DISPLAY
DESCRIPTION:DEADLINE REMINDER for Φυλλάδιο εργασιών 4ης ενότητας
END:VALARM
END:VEVENT
BEGIN:VEVENT
DTSTART:20260422T101137
DURATION:PT00H00M00S
SUMMARY:[DEADLINE] Άσκηση κατανόησης περιεχομένου (σωστού- λάθους) του 1ου κειμένου της ενότητας
DESCRIPTION:
BEGIN:VALARM
TRIGGER:-PT24H
DURATION:PT10H
ACTION:DISPLAY
DESCRIPTION:DEADLINE REMINDER for Άσκηση κατανόησης περιεχομένου (σωστού- λάθους) του 1ου κειμένου της ενότητας
END:VALARM
END:VEVENT
BEGIN:VEVENT
DTSTART:20260422T101137
DURATION:PT00H00M00S
SUMMARY:[DEADLINE] Ονοματική και ρηματική φράση (άσκηση αντιστοίχισης)
DESCRIPTION:
BEGIN:VALARM
TRIGGER:-PT24H
DURATION:PT10H
ACTION:DISPLAY
DESCRIPTION:DEADLINE REMINDER for Ονοματική και ρηματική φράση (άσκηση αντιστοίχισης)
END:VALARM
END:VEVENT
BEGIN:VEVENT
DTSTART:20260422T101137
DURATION:PT00H00M00S
SUMMARY:[DEADLINE] Περίληψη περιεχομένου βίντεο με τίτλο: "Η μεσογειακή διατροφή"
DESCRIPTION:
BEGIN:VALARM
TRIGGER:-PT24H
DURATION:PT10H
ACTION:DISPLAY
DESCRIPTION:DEADLINE REMINDER for Περίληψη περιεχομένου βίντεο με τίτλο: "Η μεσογειακή διατροφή"
END:VALARM
END:VEVENT
BEGIN:VEVENT
DTSTART:20260422T101137
DURATION:PT00H00M00S
SUMMARY:[DEADLINE] Απλή και διευρυμένη μορφή ονοματικής φράσης
DESCRIPTION:
BEGIN:VALARM
TRIGGER:-PT24H
DURATION:PT10H
ACTION:DISPLAY
DESCRIPTION:DEADLINE REMINDER for Απλή και διευρυμένη μορφή ονοματικής φράσης
END:VALARM
END:VEVENT
BEGIN:VEVENT
DTSTART:20260422T101137
DURATION:PT00H00M00S
SUMMARY:[DEADLINE] Συνταγματικός άξονας
DESCRIPTION:
BEGIN:VALARM
TRIGGER:-PT24H
DURATION:PT10H
ACTION:DISPLAY
DESCRIPTION:DEADLINE REMINDER for Συνταγματικός άξονας
END:VALARM
END:VEVENT
BEGIN:VEVENT
DTSTART:20210205T091500
DURATION:PT00H30M00S
SUMMARY:[COURSE] Παρουσίαση αφίσας (για τη μεσογειακή διατροφή) κάθε μαθητή.
DESCRIPTION:Κάθε μαθητής θα παρουσιάσει την αφίσα του στους συμμαθητές του.
END:VEVENT
END:VCALENDAR
