BEGIN:VCALENDAR
VERSION:2.0
BEGIN:VEVENT
DTSTART:20260423T111504
DURATION:PT00H00M00S
SUMMARY:[DEADLINE] Exercise 7.1 (True/False)
DESCRIPTION:
BEGIN:VALARM
TRIGGER:-PT24H
DURATION:PT10H
ACTION:DISPLAY
DESCRIPTION:DEADLINE REMINDER for Exercise 7.1 (True/False)
END:VALARM
END:VEVENT
BEGIN:VEVENT
DTSTART:20260423T111504
DURATION:PT00H00M00S
SUMMARY:[DEADLINE] Exercise 7.1 (Match)
DESCRIPTION:
BEGIN:VALARM
TRIGGER:-PT24H
DURATION:PT10H
ACTION:DISPLAY
DESCRIPTION:DEADLINE REMINDER for Exercise 7.1 (Match)
END:VALARM
END:VEVENT
BEGIN:VEVENT
DTSTART:20260423T111504
DURATION:PT00H00M00S
SUMMARY:[DEADLINE] Exercise 7.1 (Multiple choice)
DESCRIPTION:
BEGIN:VALARM
TRIGGER:-PT24H
DURATION:PT10H
ACTION:DISPLAY
DESCRIPTION:DEADLINE REMINDER for Exercise 7.1 (Multiple choice)
END:VALARM
END:VEVENT
END:VCALENDAR
