BEGIN:VCALENDAR
VERSION:2.0
BEGIN:VEVENT
DTSTART:20220301T121000
DURATION:PT00H00M00S
SUMMARY:[DEADLINE] Παζλ Νερό
DESCRIPTION:Στον παρακάτω σύνδεσμο θα βρείτε ένα παζλ με το νερό.
Νερό
(deadline: 2022-03-01 12:10:00)
BEGIN:VALARM
TRIGGER:-PT24H
DURATION:PT10H
ACTION:DISPLAY
DESCRIPTION:DEADLINE REMINDER for Παζλ Νερό
END:VALARM
END:VEVENT
END:VCALENDAR
