BEGIN:VCALENDAR
VERSION:2.0
BEGIN:VEVENT
DTSTART:20260422T100818
DURATION:PT00H00M00S
SUMMARY:[DEADLINE] Νιώθω δημιουργικός/ή
DESCRIPTION:
BEGIN:VALARM
TRIGGER:-PT24H
DURATION:PT10H
ACTION:DISPLAY
DESCRIPTION:DEADLINE REMINDER for Νιώθω δημιουργικός/ή
END:VALARM
END:VEVENT
BEGIN:VEVENT
DTSTART:20260422T100818
DURATION:PT00H00M00S
SUMMARY:[DEADLINE] Άσκηση 1η: Θερμοκρασίες χρωμάτων
DESCRIPTION:
BEGIN:VALARM
TRIGGER:-PT24H
DURATION:PT10H
ACTION:DISPLAY
DESCRIPTION:DEADLINE REMINDER for Άσκηση 1η: Θερμοκρασίες χρωμάτων
END:VALARM
END:VEVENT
BEGIN:VEVENT
DTSTART:20260422T100818
DURATION:PT00H00M00S
SUMMARY:[DEADLINE] Άσκηση 2η: Κατηγορίες χρωμάτων
DESCRIPTION:
BEGIN:VALARM
TRIGGER:-PT24H
DURATION:PT10H
ACTION:DISPLAY
DESCRIPTION:DEADLINE REMINDER for Άσκηση 2η: Κατηγορίες χρωμάτων
END:VALARM
END:VEVENT
BEGIN:VEVENT
DTSTART:20260422T100818
DURATION:PT00H00M00S
SUMMARY:[DEADLINE] Επαναληπτική άσκηση
DESCRIPTION:
BEGIN:VALARM
TRIGGER:-PT24H
DURATION:PT10H
ACTION:DISPLAY
DESCRIPTION:DEADLINE REMINDER for Επαναληπτική άσκηση
END:VALARM
END:VEVENT
END:VCALENDAR
