BEGIN:VCALENDAR
VERSION:2.0
BEGIN:VEVENT
DTSTART:20260421T171538
DURATION:PT00H00M00S
SUMMARY:[DEADLINE] Άσκηση σωστού - λάθους.
DESCRIPTION:
BEGIN:VALARM
TRIGGER:-PT24H
DURATION:PT10H
ACTION:DISPLAY
DESCRIPTION:DEADLINE REMINDER for Άσκηση σωστού - λάθους.
END:VALARM
END:VEVENT
BEGIN:VEVENT
DTSTART:20260421T171538
DURATION:PT00H00M00S
SUMMARY:[DEADLINE] Άσκηση Αντιστοίχισης
DESCRIPTION:
BEGIN:VALARM
TRIGGER:-PT24H
DURATION:PT10H
ACTION:DISPLAY
DESCRIPTION:DEADLINE REMINDER for Άσκηση Αντιστοίχισης
END:VALARM
END:VEVENT
BEGIN:VEVENT
DTSTART:20260421T171538
DURATION:PT00H00M00S
SUMMARY:[DEADLINE] Άσκηση Πολλαπλής Επιλογής
DESCRIPTION:
BEGIN:VALARM
TRIGGER:-PT24H
DURATION:PT10H
ACTION:DISPLAY
DESCRIPTION:DEADLINE REMINDER for Άσκηση Πολλαπλής Επιλογής
END:VALARM
END:VEVENT
BEGIN:VEVENT
DTSTART:20260421T171538
DURATION:PT00H00M00S
SUMMARY:[DEADLINE] Οι Μαθητές Ερευνούν
DESCRIPTION:
BEGIN:VALARM
TRIGGER:-PT24H
DURATION:PT10H
ACTION:DISPLAY
DESCRIPTION:DEADLINE REMINDER for Οι Μαθητές Ερευνούν
END:VALARM
END:VEVENT
END:VCALENDAR
