BEGIN:VCALENDAR
VERSION:2.0
BEGIN:VEVENT
DTSTART:20260422T193511
DURATION:PT00H00M00S
SUMMARY:[DEADLINE] Άσκηση 1_Σωστό/ Λάθος
DESCRIPTION:
BEGIN:VALARM
TRIGGER:-PT24H
DURATION:PT10H
ACTION:DISPLAY
DESCRIPTION:DEADLINE REMINDER for Άσκηση 1_Σωστό/ Λάθος
END:VALARM
END:VEVENT
BEGIN:VEVENT
DTSTART:20260422T193511
DURATION:PT00H00M00S
SUMMARY:[DEADLINE] Άσκηση 2_Αντιστοίχιση
DESCRIPTION:
BEGIN:VALARM
TRIGGER:-PT24H
DURATION:PT10H
ACTION:DISPLAY
DESCRIPTION:DEADLINE REMINDER for Άσκηση 2_Αντιστοίχιση
END:VALARM
END:VEVENT
END:VCALENDAR
