BEGIN:VCALENDAR
VERSION:2.0
BEGIN:VEVENT
DTSTART:20260423T180220
DURATION:PT00H00M00S
SUMMARY:[DEADLINE] Χαρακτηρισμός της δράσης των ολιγαρχικών
DESCRIPTION:
BEGIN:VALARM
TRIGGER:-PT24H
DURATION:PT10H
ACTION:DISPLAY
DESCRIPTION:DEADLINE REMINDER for Χαρακτηρισμός της δράσης των ολιγαρχικών
END:VALARM
END:VEVENT
BEGIN:VEVENT
DTSTART:20260423T180220
DURATION:PT00H00M00S
SUMMARY:[DEADLINE] Ασκήσεις Γραμματικής-Συντακτικού και Λεξιλογίου
DESCRIPTION:
BEGIN:VALARM
TRIGGER:-PT24H
DURATION:PT10H
ACTION:DISPLAY
DESCRIPTION:DEADLINE REMINDER for Ασκήσεις Γραμματικής-Συντακτικού και Λεξιλογίου
END:VALARM
END:VEVENT
BEGIN:VEVENT
DTSTART:20260423T180220
DURATION:PT00H00M00S
SUMMARY:[DEADLINE] Δημιουργική εργασία
DESCRIPTION:
BEGIN:VALARM
TRIGGER:-PT24H
DURATION:PT10H
ACTION:DISPLAY
DESCRIPTION:DEADLINE REMINDER for Δημιουργική εργασία
END:VALARM
END:VEVENT
BEGIN:VEVENT
DTSTART:20260423T180220
DURATION:PT00H00M00S
SUMMARY:[DEADLINE] Άσκηση κεφ. 71.1 (συμπλήρωση κενών)
DESCRIPTION:
BEGIN:VALARM
TRIGGER:-PT24H
DURATION:PT10H
ACTION:DISPLAY
DESCRIPTION:DEADLINE REMINDER for Άσκηση κεφ. 71.1 (συμπλήρωση κενών)
END:VALARM
END:VEVENT
BEGIN:VEVENT
DTSTART:20260423T180220
DURATION:PT00H00M00S
SUMMARY:[DEADLINE] Κεφ. 71.1 άσκηση αντιστοίχισης
DESCRIPTION:
BEGIN:VALARM
TRIGGER:-PT24H
DURATION:PT10H
ACTION:DISPLAY
DESCRIPTION:DEADLINE REMINDER for Κεφ. 71.1 άσκηση αντιστοίχισης
END:VALARM
END:VEVENT
BEGIN:VEVENT
DTSTART:20260423T180220
DURATION:PT00H00M00S
SUMMARY:[DEADLINE] Άσκηση Σωστο/Λάθος
DESCRIPTION:
BEGIN:VALARM
TRIGGER:-PT24H
DURATION:PT10H
ACTION:DISPLAY
DESCRIPTION:DEADLINE REMINDER for Άσκηση Σωστο/Λάθος
END:VALARM
END:VEVENT
END:VCALENDAR
