BEGIN:VCALENDAR
VERSION:2.0
BEGIN:VEVENT
DTSTART:20260422T134351
DURATION:PT00H00M00S
SUMMARY:[DEADLINE] Περιγράφω τον άθλο του Ηρακλή με το λιοντάρι της Νεμέας με δικά μου λόγια
DESCRIPTION:
BEGIN:VALARM
TRIGGER:-PT24H
DURATION:PT10H
ACTION:DISPLAY
DESCRIPTION:DEADLINE REMINDER for Περιγράφω τον άθλο του Ηρακλή με το λιοντάρι της Νεμέας με δικά μου λόγια
END:VALARM
END:VEVENT
BEGIN:VEVENT
DTSTART:20260422T134351
DURATION:PT00H00M00S
SUMMARY:[DEADLINE] Άσκηση 1η: Συμπλήρωση κενών
DESCRIPTION:
BEGIN:VALARM
TRIGGER:-PT24H
DURATION:PT10H
ACTION:DISPLAY
DESCRIPTION:DEADLINE REMINDER for Άσκηση 1η: Συμπλήρωση κενών
END:VALARM
END:VEVENT
BEGIN:VEVENT
DTSTART:20260422T134351
DURATION:PT00H00M00S
SUMMARY:[DEADLINE] Άσκηση 2η: Πολλαπλής επιλογής
DESCRIPTION:
BEGIN:VALARM
TRIGGER:-PT24H
DURATION:PT10H
ACTION:DISPLAY
DESCRIPTION:DEADLINE REMINDER for Άσκηση 2η: Πολλαπλής επιλογής
END:VALARM
END:VEVENT
BEGIN:VEVENT
DTSTART:20260422T134351
DURATION:PT00H00M00S
SUMMARY:[DEADLINE] 4
DESCRIPTION:
BEGIN:VALARM
TRIGGER:-PT24H
DURATION:PT10H
ACTION:DISPLAY
DESCRIPTION:DEADLINE REMINDER for 4
END:VALARM
END:VEVENT
END:VCALENDAR
