BEGIN:VCALENDAR
VERSION:2.0
BEGIN:VEVENT
DTSTART:20260422T021328
DURATION:PT00H00M00S
SUMMARY:[DEADLINE] Προαιρετική εργασία 
DESCRIPTION:
BEGIN:VALARM
TRIGGER:-PT24H
DURATION:PT10H
ACTION:DISPLAY
DESCRIPTION:DEADLINE REMINDER for Προαιρετική εργασία
END:VALARM
END:VEVENT
BEGIN:VEVENT
DTSTART:20260422T021328
DURATION:PT00H00M00S
SUMMARY:[DEADLINE] Άσκηση συμπλήρωσης κενών για το κεφάλαιο 8
DESCRIPTION:
BEGIN:VALARM
TRIGGER:-PT24H
DURATION:PT10H
ACTION:DISPLAY
DESCRIPTION:DEADLINE REMINDER for Άσκηση συμπλήρωσης κενών για το κεφάλαιο 8
END:VALARM
END:VEVENT
BEGIN:VEVENT
DTSTART:20260422T021328
DURATION:PT00H00M00S
SUMMARY:[DEADLINE] Να χαρακτηρίσετε τις προτάσεις με (Σ) αν είναι σωστές και με (Λ) αν είναι λανθασμένες.
DESCRIPTION:
BEGIN:VALARM
TRIGGER:-PT24H
DURATION:PT10H
ACTION:DISPLAY
DESCRIPTION:DEADLINE REMINDER for Να χαρακτηρίσετε τις προτάσεις με (Σ) αν είναι σωστές και με (Λ) αν είναι λανθασμένες.
END:VALARM
END:VEVENT
BEGIN:VEVENT
DTSTART:20260422T021328
DURATION:PT00H00M00S
SUMMARY:[DEADLINE] Κεφάλαιο 8, ποιο ήταν το όραμα του Ρήγα;
DESCRIPTION:
BEGIN:VALARM
TRIGGER:-PT24H
DURATION:PT10H
ACTION:DISPLAY
DESCRIPTION:DEADLINE REMINDER for Κεφάλαιο 8, ποιο ήταν το όραμα του Ρήγα;
END:VALARM
END:VEVENT
BEGIN:VEVENT
DTSTART:20260422T021328
DURATION:PT00H00M00S
SUMMARY:[DEADLINE] Γνώρισε τη φυλακή του Ρήγα Βελεστινλή
DESCRIPTION:
BEGIN:VALARM
TRIGGER:-PT24H
DURATION:PT10H
ACTION:DISPLAY
DESCRIPTION:DEADLINE REMINDER for Γνώρισε τη φυλακή του Ρήγα Βελεστινλή
END:VALARM
END:VEVENT
BEGIN:VEVENT
DTSTART:20260422T021328
DURATION:PT00H00M00S
SUMMARY:[DEADLINE] Ρήγας ΦΕΡΑΙΟΣ 1, Ένα πρωτοποριακό πνεύμα
DESCRIPTION:
BEGIN:VALARM
TRIGGER:-PT24H
DURATION:PT10H
ACTION:DISPLAY
DESCRIPTION:DEADLINE REMINDER for Ρήγας ΦΕΡΑΙΟΣ 1, Ένα πρωτοποριακό πνεύμα
END:VALARM
END:VEVENT
BEGIN:VEVENT
DTSTART:20260422T021328
DURATION:PT00H00M00S
SUMMARY:[DEADLINE] Ρήγας Βελεστινλής Β' μέρος
DESCRIPTION:
BEGIN:VALARM
TRIGGER:-PT24H
DURATION:PT10H
ACTION:DISPLAY
DESCRIPTION:DEADLINE REMINDER for Ρήγας Βελεστινλής Β' μέρος
END:VALARM
END:VEVENT
BEGIN:VEVENT
DTSTART:20260422T021328
DURATION:PT00H00M00S
SUMMARY:[DEADLINE] Να επιλέξεις τη σωστή απάντηση
DESCRIPTION:
BEGIN:VALARM
TRIGGER:-PT24H
DURATION:PT10H
ACTION:DISPLAY
DESCRIPTION:DEADLINE REMINDER for Να επιλέξεις τη σωστή απάντηση
END:VALARM
END:VEVENT
BEGIN:VEVENT
DTSTART:20260422T021328
DURATION:PT00H00M00S
SUMMARY:[DEADLINE] Να αντιστοιχίσεις.
DESCRIPTION:
BEGIN:VALARM
TRIGGER:-PT24H
DURATION:PT10H
ACTION:DISPLAY
DESCRIPTION:DEADLINE REMINDER for Να αντιστοιχίσεις.
END:VALARM
END:VEVENT
END:VCALENDAR
