BEGIN:VCALENDAR
VERSION:2.0
BEGIN:VEVENT
DTSTART:20260421T235653
DURATION:PT00H00M00S
SUMMARY:[DEADLINE] Προαιρετική εργασία
DESCRIPTION:
BEGIN:VALARM
TRIGGER:-PT24H
DURATION:PT10H
ACTION:DISPLAY
DESCRIPTION:DEADLINE REMINDER for Προαιρετική εργασία
END:VALARM
END:VEVENT
BEGIN:VEVENT
DTSTART:20260421T235653
DURATION:PT00H00M00S
SUMMARY:[DEADLINE] Καταγράφω τα μνημεία και την τοποθεσία τους
DESCRIPTION:
BEGIN:VALARM
TRIGGER:-PT24H
DURATION:PT10H
ACTION:DISPLAY
DESCRIPTION:DEADLINE REMINDER for Καταγράφω τα μνημεία και την τοποθεσία τους
END:VALARM
END:VEVENT
BEGIN:VEVENT
DTSTART:20260421T235653
DURATION:PT00H00M00S
SUMMARY:[DEADLINE] Η έκταση των ωκεανών 
DESCRIPTION:
BEGIN:VALARM
TRIGGER:-PT24H
DURATION:PT10H
ACTION:DISPLAY
DESCRIPTION:DEADLINE REMINDER for Η έκταση των ωκεανών
END:VALARM
END:VEVENT
BEGIN:VEVENT
DTSTART:20260421T235653
DURATION:PT00H00M00S
SUMMARY:[DEADLINE] Άσκηση κεφ. 8
DESCRIPTION:
BEGIN:VALARM
TRIGGER:-PT24H
DURATION:PT10H
ACTION:DISPLAY
DESCRIPTION:DEADLINE REMINDER for Άσκηση κεφ. 8
END:VALARM
END:VEVENT
BEGIN:VEVENT
DTSTART:20260421T235653
DURATION:PT00H00M00S
SUMMARY:[DEADLINE] Αξιολόγηση κεφαλαίου 7
DESCRIPTION:
BEGIN:VALARM
TRIGGER:-PT24H
DURATION:PT10H
ACTION:DISPLAY
DESCRIPTION:DEADLINE REMINDER for Αξιολόγηση κεφαλαίου 7
END:VALARM
END:VEVENT
BEGIN:VEVENT
DTSTART:20260421T235653
DURATION:PT00H00M00S
SUMMARY:[DEADLINE] Μεγάλες προσωπικότητες του Ευρωπαϊκού Πολιτισμού
DESCRIPTION:
BEGIN:VALARM
TRIGGER:-PT24H
DURATION:PT10H
ACTION:DISPLAY
DESCRIPTION:DEADLINE REMINDER for Μεγάλες προσωπικότητες του Ευρωπαϊκού Πολιτισμού
END:VALARM
END:VEVENT
END:VCALENDAR
