BEGIN:VCALENDAR
VERSION:2.0
BEGIN:VEVENT
DTSTART:20260423T041445
DURATION:PT00H00M00S
SUMMARY:[DEADLINE] Φύλλο εργασίας - Συσκευές εισόδου και εξόδου
DESCRIPTION:
BEGIN:VALARM
TRIGGER:-PT24H
DURATION:PT10H
ACTION:DISPLAY
DESCRIPTION:DEADLINE REMINDER for Φύλλο εργασίας - Συσκευές εισόδου και εξόδου
END:VALARM
END:VEVENT
BEGIN:VEVENT
DTSTART:20260423T041445
DURATION:PT00H00M00S
SUMMARY:[DEADLINE] Άσκηση Ενότητας 2.1 α
DESCRIPTION:
BEGIN:VALARM
TRIGGER:-PT24H
DURATION:PT10H
ACTION:DISPLAY
DESCRIPTION:DEADLINE REMINDER for Άσκηση Ενότητας 2.1 α
END:VALARM
END:VEVENT
BEGIN:VEVENT
DTSTART:20260423T041445
DURATION:PT00H00M00S
SUMMARY:[DEADLINE] Άσκηση Ενότητας 2.1 β
DESCRIPTION:
BEGIN:VALARM
TRIGGER:-PT24H
DURATION:PT10H
ACTION:DISPLAY
DESCRIPTION:DEADLINE REMINDER for Άσκηση Ενότητας 2.1 β
END:VALARM
END:VEVENT
END:VCALENDAR
