BEGIN:VCALENDAR
VERSION:2.0
BEGIN:VEVENT
DTSTART:20260422T144938
DURATION:PT00H00M00S
SUMMARY:[DEADLINE] Να συμπληρώσετε τα παρακάτω κενά των προτάσεων με τους κατάλληλους τύπους των προσωπικών αντωνυμιών 
DESCRIPTION:
BEGIN:VALARM
TRIGGER:-PT24H
DURATION:PT10H
ACTION:DISPLAY
DESCRIPTION:DEADLINE REMINDER for Να συμπληρώσετε τα παρακάτω κενά των προτάσεων με τους κατάλληλους τύπους των προσωπικών αντωνυμιών
END:VALARM
END:VEVENT
BEGIN:VEVENT
DTSTART:20260422T144938
DURATION:PT00H00M00S
SUMMARY:[DEADLINE] 1η Άσκηση
DESCRIPTION:
BEGIN:VALARM
TRIGGER:-PT24H
DURATION:PT10H
ACTION:DISPLAY
DESCRIPTION:DEADLINE REMINDER for 1η Άσκηση
END:VALARM
END:VEVENT
BEGIN:VEVENT
DTSTART:20260422T144938
DURATION:PT00H00M00S
SUMMARY:[DEADLINE] 2η Άσκηση
DESCRIPTION:
BEGIN:VALARM
TRIGGER:-PT24H
DURATION:PT10H
ACTION:DISPLAY
DESCRIPTION:DEADLINE REMINDER for 2η Άσκηση
END:VALARM
END:VEVENT
END:VCALENDAR
