BEGIN:VCALENDAR
VERSION:2.0
BEGIN:VEVENT
DTSTART:20260422T130503
DURATION:PT00H00M00S
SUMMARY:[DEADLINE] γράφω την περίληψη της ιστορίας με τον ελέφαντα 
DESCRIPTION:
BEGIN:VALARM
TRIGGER:-PT24H
DURATION:PT10H
ACTION:DISPLAY
DESCRIPTION:DEADLINE REMINDER for γράφω την περίληψη της ιστορίας με τον ελέφαντα
END:VALARM
END:VEVENT
BEGIN:VEVENT
DTSTART:20260422T130503
DURATION:PT00H00M00S
SUMMARY:[DEADLINE] ασκηση 1
DESCRIPTION:
BEGIN:VALARM
TRIGGER:-PT24H
DURATION:PT10H
ACTION:DISPLAY
DESCRIPTION:DEADLINE REMINDER for ασκηση 1
END:VALARM
END:VEVENT
BEGIN:VEVENT
DTSTART:20260422T130503
DURATION:PT00H00M00S
SUMMARY:[DEADLINE] ασκηση 2
DESCRIPTION:
BEGIN:VALARM
TRIGGER:-PT24H
DURATION:PT10H
ACTION:DISPLAY
DESCRIPTION:DEADLINE REMINDER for ασκηση 2
END:VALARM
END:VEVENT
END:VCALENDAR
