BEGIN:VCALENDAR
VERSION:2.0
BEGIN:VEVENT
DTSTART:20260422T134408
DURATION:PT00H00M00S
SUMMARY:[DEADLINE] Εργασία: Βιόσφαιρα 2
DESCRIPTION:
BEGIN:VALARM
TRIGGER:-PT24H
DURATION:PT10H
ACTION:DISPLAY
DESCRIPTION:DEADLINE REMINDER for Εργασία: Βιόσφαιρα 2
END:VALARM
END:VEVENT
BEGIN:VEVENT
DTSTART:20260422T134408
DURATION:PT00H00M00S
SUMMARY:[DEADLINE] Άσκηση: A1.1 Γεωγραφικές συντεταγμένες (συμπλήρωση κενών)
DESCRIPTION:
BEGIN:VALARM
TRIGGER:-PT24H
DURATION:PT10H
ACTION:DISPLAY
DESCRIPTION:DEADLINE REMINDER for Άσκηση: A1.1 Γεωγραφικές συντεταγμένες (συμπλήρωση κενών)
END:VALARM
END:VEVENT
BEGIN:VEVENT
DTSTART:20260422T134408
DURATION:PT00H00M00S
SUMMARY:[DEADLINE] Άσκηση: A1.1 Γεωγραφικές συντεταγμένες (αντιστοίχιση)
DESCRIPTION:
BEGIN:VALARM
TRIGGER:-PT24H
DURATION:PT10H
ACTION:DISPLAY
DESCRIPTION:DEADLINE REMINDER for Άσκηση: A1.1 Γεωγραφικές συντεταγμένες (αντιστοίχιση)
END:VALARM
END:VEVENT
BEGIN:VEVENT
DTSTART:20260422T134408
DURATION:PT00H00M00S
SUMMARY:[DEADLINE] Άσκηση: A1.1 Γεωγραφικές συντεταγμένες (πολλαπλής επιλογής)
DESCRIPTION:
BEGIN:VALARM
TRIGGER:-PT24H
DURATION:PT10H
ACTION:DISPLAY
DESCRIPTION:DEADLINE REMINDER for Άσκηση: A1.1 Γεωγραφικές συντεταγμένες (πολλαπλής επιλογής)
END:VALARM
END:VEVENT
BEGIN:VEVENT
DTSTART:20260422T134408
DURATION:PT00H00M00S
SUMMARY:[DEADLINE] Άσκηση: A1.1 Γεωγραφικές συντεταγμένες (σωστό/λάθος)
DESCRIPTION:
BEGIN:VALARM
TRIGGER:-PT24H
DURATION:PT10H
ACTION:DISPLAY
DESCRIPTION:DEADLINE REMINDER for Άσκηση: A1.1 Γεωγραφικές συντεταγμένες (σωστό/λάθος)
END:VALARM
END:VEVENT
BEGIN:VEVENT
DTSTART:20260422T134408
DURATION:PT00H00M00S
SUMMARY:[DEADLINE] Άσκηση: A1.1 Γεωγραφικές συντεταγμένες (πολλαπλής επιλογής μοναδικής απάντησης)
DESCRIPTION:
BEGIN:VALARM
TRIGGER:-PT24H
DURATION:PT10H
ACTION:DISPLAY
DESCRIPTION:DEADLINE REMINDER for Άσκηση: A1.1 Γεωγραφικές συντεταγμένες (πολλαπλής επιλογής μοναδικής απάντησης)
END:VALARM
END:VEVENT
END:VCALENDAR
