BEGIN:VCALENDAR
VERSION:2.0
BEGIN:VEVENT
DTSTART:20260421T153252
DURATION:PT00H00M00S
SUMMARY:[DEADLINE] Κουΐζ για Αποθηκευτικά Μέσα
DESCRIPTION:
BEGIN:VALARM
TRIGGER:-PT24H
DURATION:PT10H
ACTION:DISPLAY
DESCRIPTION:DEADLINE REMINDER for Κουΐζ για Αποθηκευτικά Μέσα
END:VALARM
END:VEVENT
BEGIN:VEVENT
DTSTART:20260421T153252
DURATION:PT00H00M00S
SUMMARY:[DEADLINE] Άσκηση αντιστοίχισης
DESCRIPTION:
BEGIN:VALARM
TRIGGER:-PT24H
DURATION:PT10H
ACTION:DISPLAY
DESCRIPTION:DEADLINE REMINDER for Άσκηση αντιστοίχισης
END:VALARM
END:VEVENT
END:VCALENDAR
