BEGIN:VCALENDAR
VERSION:2.0
BEGIN:VEVENT
DTSTART:20260421T134740
DURATION:PT00H00M00S
SUMMARY:[DEADLINE] Εργασία- Μάθημα 25
DESCRIPTION:
BEGIN:VALARM
TRIGGER:-PT24H
DURATION:PT10H
ACTION:DISPLAY
DESCRIPTION:DEADLINE REMINDER for Εργασία- Μάθημα 25
END:VALARM
END:VEVENT
BEGIN:VEVENT
DTSTART:20260421T134740
DURATION:PT00H00M00S
SUMMARY:[DEADLINE] Άσκηση συμπλήρωσης κενών- Μάθημα 25
DESCRIPTION:
BEGIN:VALARM
TRIGGER:-PT24H
DURATION:PT10H
ACTION:DISPLAY
DESCRIPTION:DEADLINE REMINDER for Άσκηση συμπλήρωσης κενών- Μάθημα 25
END:VALARM
END:VEVENT
BEGIN:VEVENT
DTSTART:20260421T134740
DURATION:PT00H00M00S
SUMMARY:[DEADLINE] Άσκηση αντιστοίχισης- Μάθημα 25
DESCRIPTION:
BEGIN:VALARM
TRIGGER:-PT24H
DURATION:PT10H
ACTION:DISPLAY
DESCRIPTION:DEADLINE REMINDER for Άσκηση αντιστοίχισης- Μάθημα 25
END:VALARM
END:VEVENT
BEGIN:VEVENT
DTSTART:20260421T134740
DURATION:PT00H00M00S
SUMMARY:[DEADLINE] Άσκηση  (Σωστό/Λάθος) - Μάθημα 25
DESCRIPTION:
BEGIN:VALARM
TRIGGER:-PT24H
DURATION:PT10H
ACTION:DISPLAY
DESCRIPTION:DEADLINE REMINDER for Άσκηση (Σωστό/Λάθος) - Μάθημα 25
END:VALARM
END:VEVENT
BEGIN:VEVENT
DTSTART:20260421T134740
DURATION:PT00H00M00S
SUMMARY:[DEADLINE] Άσκηση πολλαπλής επιλογής ( μοναδική απάντηση)- Μάθημα 25
DESCRIPTION:
BEGIN:VALARM
TRIGGER:-PT24H
DURATION:PT10H
ACTION:DISPLAY
DESCRIPTION:DEADLINE REMINDER for Άσκηση πολλαπλής επιλογής ( μοναδική απάντηση)- Μάθημα 25
END:VALARM
END:VEVENT
END:VCALENDAR
