BEGIN:VCALENDAR
VERSION:2.0
BEGIN:VEVENT
DTSTART:20260422T173853
DURATION:PT00H00M00S
SUMMARY:[DEADLINE] Εργασία 1
DESCRIPTION:
BEGIN:VALARM
TRIGGER:-PT24H
DURATION:PT10H
ACTION:DISPLAY
DESCRIPTION:DEADLINE REMINDER for Εργασία 1
END:VALARM
END:VEVENT
BEGIN:VEVENT
DTSTART:20260422T173853
DURATION:PT00H00M00S
SUMMARY:[DEADLINE] ΑΣΚΗΣΗ ΣΩΣΤΟΥ/ΛΑΘΟΥΣ
DESCRIPTION:
BEGIN:VALARM
TRIGGER:-PT24H
DURATION:PT10H
ACTION:DISPLAY
DESCRIPTION:DEADLINE REMINDER for ΑΣΚΗΣΗ ΣΩΣΤΟΥ/ΛΑΘΟΥΣ
END:VALARM
END:VEVENT
BEGIN:VEVENT
DTSTART:20260422T173853
DURATION:PT00H00M00S
SUMMARY:[DEADLINE] ΑΣΚΗΣΗ ΑΝΤΙΣΤΟΙΧΙΣΗΣ
DESCRIPTION:
BEGIN:VALARM
TRIGGER:-PT24H
DURATION:PT10H
ACTION:DISPLAY
DESCRIPTION:DEADLINE REMINDER for ΑΣΚΗΣΗ ΑΝΤΙΣΤΟΙΧΙΣΗΣ
END:VALARM
END:VEVENT
BEGIN:VEVENT
DTSTART:20260422T173853
DURATION:PT00H00M00S
SUMMARY:[DEADLINE] ΑΣΚΗΣΗ ΣΥΜΠΛΗΡΩΣΗΣ ΚΕΝΩΝ
DESCRIPTION:
BEGIN:VALARM
TRIGGER:-PT24H
DURATION:PT10H
ACTION:DISPLAY
DESCRIPTION:DEADLINE REMINDER for ΑΣΚΗΣΗ ΣΥΜΠΛΗΡΩΣΗΣ ΚΕΝΩΝ
END:VALARM
END:VEVENT
END:VCALENDAR
