BEGIN:VCALENDAR
VERSION:2.0
BEGIN:VEVENT
DTSTART:20260423T093303
DURATION:PT00H00M00S
SUMMARY:[DEADLINE] Ζωγραφίζω λέξεις από Κκ.
DESCRIPTION:
BEGIN:VALARM
TRIGGER:-PT24H
DURATION:PT10H
ACTION:DISPLAY
DESCRIPTION:DEADLINE REMINDER for Ζωγραφίζω λέξεις από Κκ.
END:VALARM
END:VEVENT
BEGIN:VEVENT
DTSTART:20260423T093303
DURATION:PT00H00M00S
SUMMARY:[DEADLINE] Αρχικό γράμμα-Λέξεις που περιέχουν το γράμμα κ
DESCRIPTION:
BEGIN:VALARM
TRIGGER:-PT24H
DURATION:PT10H
ACTION:DISPLAY
DESCRIPTION:DEADLINE REMINDER for Αρχικό γράμμα-Λέξεις που περιέχουν το γράμμα κ
END:VALARM
END:VEVENT
BEGIN:VEVENT
DTSTART:20260423T093303
DURATION:PT00H00M00S
SUMMARY:[DEADLINE] Άσκηση αντιστοίχισης
DESCRIPTION:
BEGIN:VALARM
TRIGGER:-PT24H
DURATION:PT10H
ACTION:DISPLAY
DESCRIPTION:DEADLINE REMINDER for Άσκηση αντιστοίχισης
END:VALARM
END:VEVENT
BEGIN:VEVENT
DTSTART:20260423T093303
DURATION:PT00H00M00S
SUMMARY:[DEADLINE] Βρες το σωστό
DESCRIPTION:
BEGIN:VALARM
TRIGGER:-PT24H
DURATION:PT10H
ACTION:DISPLAY
DESCRIPTION:DEADLINE REMINDER for Βρες το σωστό
END:VALARM
END:VEVENT
END:VCALENDAR
