BEGIN:VCALENDAR
VERSION:2.0
BEGIN:VEVENT
DTSTART:20260422T101353
DURATION:PT00H00M00S
SUMMARY:[DEADLINE] Εργασία για τους αριθμούς από 1 έως 5
DESCRIPTION:
BEGIN:VALARM
TRIGGER:-PT24H
DURATION:PT10H
ACTION:DISPLAY
DESCRIPTION:DEADLINE REMINDER for Εργασία για τους αριθμούς από 1 έως 5
END:VALARM
END:VEVENT
BEGIN:VEVENT
DTSTART:20260422T101353
DURATION:PT00H00M00S
SUMMARY:[DEADLINE] Δημιουργική δραστηριότητα! 
DESCRIPTION:
BEGIN:VALARM
TRIGGER:-PT24H
DURATION:PT10H
ACTION:DISPLAY
DESCRIPTION:DEADLINE REMINDER for Δημιουργική δραστηριότητα!
END:VALARM
END:VEVENT
BEGIN:VEVENT
DTSTART:20260422T101353
DURATION:PT00H00M00S
SUMMARY:[DEADLINE] 1η ασκηση
DESCRIPTION:
BEGIN:VALARM
TRIGGER:-PT24H
DURATION:PT10H
ACTION:DISPLAY
DESCRIPTION:DEADLINE REMINDER for 1η ασκηση
END:VALARM
END:VEVENT
BEGIN:VEVENT
DTSTART:20260422T101353
DURATION:PT00H00M00S
SUMMARY:[DEADLINE] Άσκηση 1η
DESCRIPTION:
BEGIN:VALARM
TRIGGER:-PT24H
DURATION:PT10H
ACTION:DISPLAY
DESCRIPTION:DEADLINE REMINDER for Άσκηση 1η
END:VALARM
END:VEVENT
BEGIN:VEVENT
DTSTART:20260422T101353
DURATION:PT00H00M00S
SUMMARY:[DEADLINE] 2η άσκηση
DESCRIPTION:
BEGIN:VALARM
TRIGGER:-PT24H
DURATION:PT10H
ACTION:DISPLAY
DESCRIPTION:DEADLINE REMINDER for 2η άσκηση
END:VALARM
END:VEVENT
BEGIN:VEVENT
DTSTART:20260422T101353
DURATION:PT00H00M00S
SUMMARY:[DEADLINE] Άσκηση 1η Γλώσσα
DESCRIPTION:
BEGIN:VALARM
TRIGGER:-PT24H
DURATION:PT10H
ACTION:DISPLAY
DESCRIPTION:DEADLINE REMINDER for Άσκηση 1η Γλώσσα
END:VALARM
END:VEVENT
BEGIN:VEVENT
DTSTART:20260422T101353
DURATION:PT00H00M00S
SUMMARY:[DEADLINE] Άσκηση 1η Μαθηματικά
DESCRIPTION:
BEGIN:VALARM
TRIGGER:-PT24H
DURATION:PT10H
ACTION:DISPLAY
DESCRIPTION:DEADLINE REMINDER for Άσκηση 1η Μαθηματικά
END:VALARM
END:VEVENT
END:VCALENDAR
