BEGIN:VCALENDAR
VERSION:2.0
BEGIN:VEVENT
DTSTART:20260422T154325
DURATION:PT00H00M00S
SUMMARY:[DEADLINE] ΑΣΚΗΣΗ ΚΕΦΑΛΑΙΟΥ 1(ΑΝΤΙΣΤΟΙΧΗΣΗ)
DESCRIPTION:
BEGIN:VALARM
TRIGGER:-PT24H
DURATION:PT10H
ACTION:DISPLAY
DESCRIPTION:DEADLINE REMINDER for ΑΣΚΗΣΗ ΚΕΦΑΛΑΙΟΥ 1(ΑΝΤΙΣΤΟΙΧΗΣΗ)
END:VALARM
END:VEVENT
END:VCALENDAR
