BEGIN:VCALENDAR
VERSION:2.0
BEGIN:VEVENT
DTSTART:20260421T215735
DURATION:PT00H00M00S
SUMMARY:[DEADLINE] Περιγράφω τον άθλο του Ηρακλή με το λιοντάρι της Νεμέας με δικά μου λόγια.
DESCRIPTION:
BEGIN:VALARM
TRIGGER:-PT24H
DURATION:PT10H
ACTION:DISPLAY
DESCRIPTION:DEADLINE REMINDER for Περιγράφω τον άθλο του Ηρακλή με το λιοντάρι της Νεμέας με δικά μου λόγια.
END:VALARM
END:VEVENT
BEGIN:VEVENT
DTSTART:20260421T215735
DURATION:PT00H00M00S
SUMMARY:[DEADLINE] Γράψτε μου σε μία παράγραφο ποια είναι η τέχνη των Μιωιτών.
DESCRIPTION:
BEGIN:VALARM
TRIGGER:-PT24H
DURATION:PT10H
ACTION:DISPLAY
DESCRIPTION:DEADLINE REMINDER for Γράψτε μου σε μία παράγραφο ποια είναι η τέχνη των Μιωιτών.
END:VALARM
END:VEVENT
BEGIN:VEVENT
DTSTART:20260421T215735
DURATION:PT00H00M00S
SUMMARY:[DEADLINE] ΑΣΚΗΣΗ 1η
DESCRIPTION:
BEGIN:VALARM
TRIGGER:-PT24H
DURATION:PT10H
ACTION:DISPLAY
DESCRIPTION:DEADLINE REMINDER for ΑΣΚΗΣΗ 1η
END:VALARM
END:VEVENT
BEGIN:VEVENT
DTSTART:20260421T215735
DURATION:PT00H00M00S
SUMMARY:[DEADLINE] ΑΣΚΗΣΗ 2η
DESCRIPTION:
BEGIN:VALARM
TRIGGER:-PT24H
DURATION:PT10H
ACTION:DISPLAY
DESCRIPTION:DEADLINE REMINDER for ΑΣΚΗΣΗ 2η
END:VALARM
END:VEVENT
END:VCALENDAR
