BEGIN:VCALENDAR
VERSION:2.0
BEGIN:VEVENT
DTSTART:20260422T101708
DURATION:PT00H00M00S
SUMMARY:[DEADLINE] Προαιρετική εργασία
DESCRIPTION:
BEGIN:VALARM
TRIGGER:-PT24H
DURATION:PT10H
ACTION:DISPLAY
DESCRIPTION:DEADLINE REMINDER for Προαιρετική εργασία
END:VALARM
END:VEVENT
BEGIN:VEVENT
DTSTART:20260422T101708
DURATION:PT00H00M00S
SUMMARY:[DEADLINE] 3η άσκηση ορθογραφίας
DESCRIPTION:
BEGIN:VALARM
TRIGGER:-PT24H
DURATION:PT10H
ACTION:DISPLAY
DESCRIPTION:DEADLINE REMINDER for 3η άσκηση ορθογραφίας
END:VALARM
END:VEVENT
BEGIN:VEVENT
DTSTART:20260422T101708
DURATION:PT00H00M00S
SUMMARY:[DEADLINE] 2η άσκηση
DESCRIPTION:
BEGIN:VALARM
TRIGGER:-PT24H
DURATION:PT10H
ACTION:DISPLAY
DESCRIPTION:DEADLINE REMINDER for 2η άσκηση
END:VALARM
END:VEVENT
BEGIN:VEVENT
DTSTART:20260422T101708
DURATION:PT00H00M00S
SUMMARY:[DEADLINE] 1η άσκηση
DESCRIPTION:
BEGIN:VALARM
TRIGGER:-PT24H
DURATION:PT10H
ACTION:DISPLAY
DESCRIPTION:DEADLINE REMINDER for 1η άσκηση
END:VALARM
END:VEVENT
END:VCALENDAR
