BEGIN:VCALENDAR
VERSION:2.0
BEGIN:VEVENT
DTSTART:20260423T060207
DURATION:PT00H00M00S
SUMMARY:[DEADLINE] ΣΥΝΑΙΣΘΗΜΑΤΑ
DESCRIPTION:
BEGIN:VALARM
TRIGGER:-PT24H
DURATION:PT10H
ACTION:DISPLAY
DESCRIPTION:DEADLINE REMINDER for ΣΥΝΑΙΣΘΗΜΑΤΑ
END:VALARM
END:VEVENT
BEGIN:VEVENT
DTSTART:20260423T060207
DURATION:PT00H00M00S
SUMMARY:[DEADLINE] ΠΑΙΧΝΙΔΙ ΣΥΝΑΙΣΘΗΜΑΤΩΝ
DESCRIPTION:
BEGIN:VALARM
TRIGGER:-PT24H
DURATION:PT10H
ACTION:DISPLAY
DESCRIPTION:DEADLINE REMINDER for ΠΑΙΧΝΙΔΙ ΣΥΝΑΙΣΘΗΜΑΤΩΝ
END:VALARM
END:VEVENT
BEGIN:VEVENT
DTSTART:20260423T060207
DURATION:PT00H00M00S
SUMMARY:[DEADLINE] Άσκηση 1η
DESCRIPTION:
BEGIN:VALARM
TRIGGER:-PT24H
DURATION:PT10H
ACTION:DISPLAY
DESCRIPTION:DEADLINE REMINDER for Άσκηση 1η
END:VALARM
END:VEVENT
BEGIN:VEVENT
DTSTART:20260423T060207
DURATION:PT00H00M00S
SUMMARY:[DEADLINE] Άσκηση 2η
DESCRIPTION:
BEGIN:VALARM
TRIGGER:-PT24H
DURATION:PT10H
ACTION:DISPLAY
DESCRIPTION:DEADLINE REMINDER for Άσκηση 2η
END:VALARM
END:VEVENT
BEGIN:VEVENT
DTSTART:20260423T060207
DURATION:PT00H00M00S
SUMMARY:[DEADLINE] Άσκηση 3η
DESCRIPTION:
BEGIN:VALARM
TRIGGER:-PT24H
DURATION:PT10H
ACTION:DISPLAY
DESCRIPTION:DEADLINE REMINDER for Άσκηση 3η
END:VALARM
END:VEVENT
BEGIN:VEVENT
DTSTART:20260423T060207
DURATION:PT00H00M00S
SUMMARY:[DEADLINE] Άσκηση 4η
DESCRIPTION:
BEGIN:VALARM
TRIGGER:-PT24H
DURATION:PT10H
ACTION:DISPLAY
DESCRIPTION:DEADLINE REMINDER for Άσκηση 4η
END:VALARM
END:VEVENT
END:VCALENDAR
