BEGIN:VCALENDAR
VERSION:2.0
BEGIN:VEVENT
DTSTART:20260423T040120
DURATION:PT00H00M00S
SUMMARY:[DEADLINE] Άσκηση - Σωστό ή Λάθος
DESCRIPTION:
BEGIN:VALARM
TRIGGER:-PT24H
DURATION:PT10H
ACTION:DISPLAY
DESCRIPTION:DEADLINE REMINDER for Άσκηση - Σωστό ή Λάθος
END:VALARM
END:VEVENT
BEGIN:VEVENT
DTSTART:20260423T040120
DURATION:PT00H00M00S
SUMMARY:[DEADLINE] Άσκηση - Αντιστοίχιση
DESCRIPTION:
BEGIN:VALARM
TRIGGER:-PT24H
DURATION:PT10H
ACTION:DISPLAY
DESCRIPTION:DEADLINE REMINDER for Άσκηση - Αντιστοίχιση
END:VALARM
END:VEVENT
BEGIN:VEVENT
DTSTART:20260423T040120
DURATION:PT00H00M00S
SUMMARY:[DEADLINE] Άσκηση - Πολλαπλή επιλογή
DESCRIPTION:
BEGIN:VALARM
TRIGGER:-PT24H
DURATION:PT10H
ACTION:DISPLAY
DESCRIPTION:DEADLINE REMINDER for Άσκηση - Πολλαπλή επιλογή
END:VALARM
END:VEVENT
END:VCALENDAR
