BEGIN:VCALENDAR
VERSION:2.0
BEGIN:VEVENT
DTSTART:20260422T115754
DURATION:PT00H00M00S
SUMMARY:[DEADLINE] Άσκηση αντιστοίχισης  για δημιουργία σύνθετων ουσιαστικών
DESCRIPTION:
BEGIN:VALARM
TRIGGER:-PT24H
DURATION:PT10H
ACTION:DISPLAY
DESCRIPTION:DEADLINE REMINDER for Άσκηση αντιστοίχισης για δημιουργία σύνθετων ουσιαστικών
END:VALARM
END:VEVENT
BEGIN:VEVENT
DTSTART:20260422T115754
DURATION:PT00H00M00S
SUMMARY:[DEADLINE] Χαρακτηρισμός  προτάσεων ως σωστές  ή λάθος
DESCRIPTION:
BEGIN:VALARM
TRIGGER:-PT24H
DURATION:PT10H
ACTION:DISPLAY
DESCRIPTION:DEADLINE REMINDER for Χαρακτηρισμός προτάσεων ως σωστές ή λάθος
END:VALARM
END:VEVENT
BEGIN:VEVENT
DTSTART:20260422T115754
DURATION:PT00H00M00S
SUMMARY:[DEADLINE] Συμπλήρωση κενών-
DESCRIPTION:
BEGIN:VALARM
TRIGGER:-PT24H
DURATION:PT10H
ACTION:DISPLAY
DESCRIPTION:DEADLINE REMINDER for Συμπλήρωση κενών-
END:VALARM
END:VEVENT
BEGIN:VEVENT
DTSTART:20260422T115754
DURATION:PT00H00M00S
SUMMARY:[DEADLINE] Άσκηση αντιστοίχισης
DESCRIPTION:
BEGIN:VALARM
TRIGGER:-PT24H
DURATION:PT10H
ACTION:DISPLAY
DESCRIPTION:DEADLINE REMINDER for Άσκηση αντιστοίχισης
END:VALARM
END:VEVENT
BEGIN:VEVENT
DTSTART:20210510T105000
DURATION:PT00H00M00S
SUMMARY:[DEADLINE] Αντιστοιχίστε ώστε να προκύψουν νοηματικά ορθές  προτάσεις
DESCRIPTION: Η άσκηση αντιστοίχησης θα δοθεί μετά την ολοκλήρωση του 3ου βήματος στη σύγχρονη ΕξΑΕ του σεναρίου με τίτλο Διατροφικές συνήθειες
(deadline: 2021-05-10 10:50:00)
BEGIN:VALARM
TRIGGER:-PT24H
DURATION:PT10H
ACTION:DISPLAY
DESCRIPTION:DEADLINE REMINDER for Αντιστοιχίστε ώστε να προκύψουν νοηματικά ορθές προτάσεις
END:VALARM
END:VEVENT
BEGIN:VEVENT
DTSTART:20210510T211500
DURATION:PT00H00M00S
SUMMARY:[DEADLINE] Άσκηση αναγνώρισης
DESCRIPTION:Η άσκηση αναγνώρισης θα δοθεί μετά την ολοκλήρωση του 3ου βήματος στη σύγχρονη ΕξΑΕ του σεναρίου με τίτλο Διατροφικές συνήθειε
(deadline: 2021-05-10 21:15:00)
BEGIN:VALARM
TRIGGER:-PT24H
DURATION:PT10H
ACTION:DISPLAY
DESCRIPTION:DEADLINE REMINDER for Άσκηση αναγνώρισης
END:VALARM
END:VEVENT
BEGIN:VEVENT
DTSTART:20210512T170000
DURATION:PT00H00M00S
SUMMARY:[DEADLINE] Κανόνες Διατροφής
DESCRIPTION:(deadline: 2021-05-12 17:00:00)
BEGIN:VALARM
TRIGGER:-PT24H
DURATION:PT10H
ACTION:DISPLAY
DESCRIPTION:DEADLINE REMINDER for Κανόνες Διατροφής
END:VALARM
END:VEVENT
END:VCALENDAR
