BEGIN:VCALENDAR
VERSION:2.0
BEGIN:VEVENT
DTSTART:20260422T145252
DURATION:PT00H00M00S
SUMMARY:[DEADLINE] ΕΥΡΕΣΗ ΧΗΜΙΚΩΝ ΣΤΟΙΧΕΙΩΝ ΣΤΟ ΠΕΡΙΟΔΙΚΟ ΠΙΝΑΚΑ
DESCRIPTION:
BEGIN:VALARM
TRIGGER:-PT24H
DURATION:PT10H
ACTION:DISPLAY
DESCRIPTION:DEADLINE REMINDER for ΕΥΡΕΣΗ ΧΗΜΙΚΩΝ ΣΤΟΙΧΕΙΩΝ ΣΤΟ ΠΕΡΙΟΔΙΚΟ ΠΙΝΑΚΑ
END:VALARM
END:VEVENT
BEGIN:VEVENT
DTSTART:20260422T145252
DURATION:PT00H00M00S
SUMMARY:[DEADLINE] σταυρόλεξο
DESCRIPTION:
BEGIN:VALARM
TRIGGER:-PT24H
DURATION:PT10H
ACTION:DISPLAY
DESCRIPTION:DEADLINE REMINDER for σταυρόλεξο
END:VALARM
END:VEVENT
BEGIN:VEVENT
DTSTART:20260422T145252
DURATION:PT00H00M00S
SUMMARY:[DEADLINE] ΑΣΚΗΣΗ 1
DESCRIPTION:
BEGIN:VALARM
TRIGGER:-PT24H
DURATION:PT10H
ACTION:DISPLAY
DESCRIPTION:DEADLINE REMINDER for ΑΣΚΗΣΗ 1
END:VALARM
END:VEVENT
END:VCALENDAR
